BEGIN:VCALENDAR
VERSION:2.0
PRODID:-//Portal de Educação Ambiental - ECPv6.14.2//NONSGML v1.0//EN
CALSCALE:GREGORIAN
METHOD:PUBLISH
X-ORIGINAL-URL:https://semil.sp.gov.br/educacaoambiental
X-WR-CALDESC:Eventos para Portal de Educação Ambiental
REFRESH-INTERVAL;VALUE=DURATION:PT1H
X-Robots-Tag:noindex
X-PUBLISHED-TTL:PT1H
BEGIN:VTIMEZONE
TZID:America/Sao_Paulo
BEGIN:STANDARD
TZOFFSETFROM:-0300
TZOFFSETTO:-0300
TZNAME:-03
DTSTART:20260101T000000
END:STANDARD
END:VTIMEZONE
BEGIN:VEVENT
DTSTART;TZID=America/Sao_Paulo:20260305T080000
DTEND;TZID=America/Sao_Paulo:20261129T110000
DTSTAMP:20260422T015413
CREATED:20260225T152426Z
LAST-MODIFIED:20260225T153046Z
UID:19857-1772697600-1795950000@semil.sp.gov.br
SUMMARY:EducaTrilha na Escola
DESCRIPTION:O EducaTrilha na Escola é um programa de educação ambiental\, cultural\, inclusiva\, climática\, agroecológica\, socioemocional e de promoção da saúde e do bem viver\, realizado com escolas municipais\, estaduais e particulares por meio de um processo formativo e um concurso de projetos educativos que incluem visitas à Estação Experimental de Tupi. \nÉ voltado a escolas de Piracicaba e Santa Bárbara d’Oeste. \n  \n\nInformações e inscrições: https://hortodetupi.wixsite.com/educatrilhanaescola
URL:https://semil.sp.gov.br/educacaoambiental/evento/educatrilha-na-escola/
ATTACH;FMTTYPE=image/jpeg:https://smastr16.blob.core.windows.net/portaleducacaoambiental/sites/11/2026/02/dcba3335-b9d2-4328-8a29-7a1af2d82f4c.jpg
END:VEVENT
BEGIN:VEVENT
DTSTART;TZID=America/Sao_Paulo:20260311T080000
DTEND;TZID=America/Sao_Paulo:20260311T170000
DTSTAMP:20260422T015413
CREATED:20260306T143114Z
LAST-MODIFIED:20260306T164335Z
UID:19974-1773216000-1773248400@semil.sp.gov.br
SUMMARY:Programa de Educação Ambiental da Bacia do Alto Tietê - PEABHAT - Sub-região Cotia-Guarapiranga
DESCRIPTION:Convidamos para a última rodada de participação social do Programa de Educação Ambiental da Bacia do Alto Tietê – PEABHAT!\n\n  \nO Programa é financiado com recursos do FEHIDRO e tem a Fundação Agência da Bacia Hidrográfica do Alto Tietê (FABHAT) como tomadora de recursos.\n\n  \nEsta é uma iniciativa do Comitê da Bacia Hidrográfica do Alto Tietê (CBH-AT)\, com acompanhamento da Câmara Técnica de Educação Ambiental\, em elaboração pela EnvEx Engenharia e Consultoria.\n\n  \nSerão 5 Audiências Regionais para receber contribuições na versão preliminar do PEABHAT. \n\n  \nA audiência referente a sub-região Cotia-Guarapiranga ocorrerá em 11/03/2026 das 09h às 12h\, presencialmente no CONISUD\, contamos com a sua participação e apoio na divulgação!\n  \n\nPara fazer sua inscrição e contribuir para a consulta pública\, acesse: https://linktr.ee/peabhat.2024\n\n📅  Consulta pública aberta até 18/03/2026\n\n📩 Dúvidas: peabhat@envexengenharia.com.br
URL:https://semil.sp.gov.br/educacaoambiental/evento/programa-de-educacao-ambiental-da-bacia-do-alto-tiete-peabhat-3/
ATTACH;FMTTYPE=image/jpeg:https://smastr16.blob.core.windows.net/portaleducacaoambiental/sites/11/2026/03/SUBREGIAO-Cotia-Guarapiranga.jpg
END:VEVENT
BEGIN:VEVENT
DTSTART;TZID=America/Sao_Paulo:20260311T143000
DTEND;TZID=America/Sao_Paulo:20260311T173000
DTSTAMP:20260422T015413
CREATED:20260306T142538Z
LAST-MODIFIED:20260306T144003Z
UID:19970-1773239400-1773250200@semil.sp.gov.br
SUMMARY:Programa de Educação Ambiental da Bacia do Alto Tietê - PEABHAT - Sub-região Billings-Tamanduateí
DESCRIPTION:Convidamos para a última rodada de participação social do Programa de Educação Ambiental da Bacia do Alto Tietê – PEABHAT! \nO Programa é financiado com recursos do FEHIDRO e tem a Fundação Agência da Bacia Hidrográfica do Alto Tietê (FABHAT) como tomadora de recursos. \nEsta é uma iniciativa do Comitê da Bacia Hidrográfica do Alto Tietê (CBH-AT)\, com acompanhamento da Câmara Técnica de Educação Ambiental\, em elaboração pela EnvEx Engenharia e Consultoria. \nSerão 5 Audiências Regionais para receber contribuições na versão preliminar do PEABHAT. \nA audiência referente a sub-região Billings-Tamanduateí ocorrerá em 11/03/2026 das 14h30 às 17h30\, no Consórcio ABC\, contamos com a sua participação e apoio na divulgação! \nPara fazer sua inscrição e contribuir para a consulta pública\, acesse: https://linktr.ee/peabhat.2024 \n📅 Consulta pública aberta até 18/03/2026 \n📩 Dúvidas: peabhat@envexengenharia.com.br
URL:https://semil.sp.gov.br/educacaoambiental/evento/programa-de-educacao-ambiental-da-bacia-do-alto-tiete-peabhat-2/
ATTACH;FMTTYPE=image/jpeg:https://smastr16.blob.core.windows.net/portaleducacaoambiental/sites/11/2026/03/SUBREGIAO-Billings-Tamanduatei.jpg
END:VEVENT
BEGIN:VEVENT
DTSTART;TZID=America/Sao_Paulo:20260312T090000
DTEND;TZID=America/Sao_Paulo:20260312T120000
DTSTAMP:20260422T015413
CREATED:20260306T143814Z
LAST-MODIFIED:20260306T164816Z
UID:19976-1773306000-1773316800@semil.sp.gov.br
SUMMARY:Programa de Educação Ambiental da Bacia do Alto Tietê - PEABHAT - Sub-região Juqueri-Cantareira
DESCRIPTION:Convidamos para a última rodada de participação social do Programa de Educação Ambiental da Bacia do Alto Tietê – PEABHAT! \nO Programa é financiado com recursos do FEHIDRO e tem a Fundação Agência da Bacia Hidrográfica do Alto Tietê (FABHAT) como tomadora de recursos. \nEsta é uma iniciativa do Comitê da Bacia Hidrográfica do Alto Tietê (CBH-AT)\, com acompanhamento da Câmara Técnica de Educação Ambiental\, em elaboração pela EnvEx Engenharia e Consultoria. \nSerão 5 Audiências Regionais para receber contribuições na versão preliminar do PEABHAT. \nA audiência referente a sub-região Juqueri-Cantareira ocorrerá em 12/03/2026 das 09h às 12h\, presencialmente na Câmara Municipal de Mairiporã\, contamos com a sua participação e apoio na divulgação! \nPara fazer sua inscrição e contribuir para a consulta pública\, acesse: https://linktr.ee/peabhat.2024 \n📅 Consulta pública aberta até 18/03/2026 \n📩 Dúvidas: peabhat@envexengenharia.com.br
URL:https://semil.sp.gov.br/educacaoambiental/evento/programa-de-educacao-ambiental-da-bacia-do-alto-tiete-peabhat-4/
ATTACH;FMTTYPE=image/jpeg:https://smastr16.blob.core.windows.net/portaleducacaoambiental/sites/11/2026/03/SUBREGIAO-Juqueri-Cantareira.jpg
END:VEVENT
BEGIN:VEVENT
DTSTART;TZID=America/Sao_Paulo:20260312T143000
DTEND;TZID=America/Sao_Paulo:20260312T173000
DTSTAMP:20260422T015413
CREATED:20260306T142218Z
LAST-MODIFIED:20260306T143932Z
UID:19967-1773325800-1773336600@semil.sp.gov.br
SUMMARY:Programa de Educação Ambiental da Bacia do Alto Tietê - PEABHAT - Sub-região Alto Tietê-Cabeceiras
DESCRIPTION:Convidamos para a última rodada de participação social do Programa de Educação Ambiental da Bacia do Alto Tietê – PEABHAT!\n\n  \nO Programa é financiado com recursos do FEHIDRO e tem a Fundação Agência da Bacia Hidrográfica do Alto Tietê (FABHAT) como tomadora de recursos.\n\n  \nEsta é uma iniciativa do Comitê da Bacia Hidrográfica do Alto Tietê (CBH-AT)\, com acompanhamento da Câmara Técnica de Educação Ambiental\, em elaboração pela EnvEx Engenharia e Consultoria.\n\n  \nSerão 5 Audiências Regionais para receber contribuições na versão preliminar do PEABHAT. \n\n  \nA audiência referente a sub-região Alto Tietê-Cabeceiras ocorrerá em 12/03/2026 das 14h30 às 17h30\, no auditório da Associação dos Engenheiros\, Arquitetos e Agrônomos de Mogi\, contamos com a sua participação e apoio na divulgação!\n\n  \nPara fazer sua inscrição e contribuir para a consulta pública\, acesse: https://linktr.ee/peabhat.2024\n\n  \n📅  Consulta pública aberta até 18/03/2026\n\n📩 Dúvidas: peabhat@envexengenharia.com.br
URL:https://semil.sp.gov.br/educacaoambiental/evento/programa-de-educacao-ambiental-da-bacia-do-alto-tiete-peabhat/
ATTACH;FMTTYPE=image/jpeg:https://smastr16.blob.core.windows.net/portaleducacaoambiental/sites/11/2026/03/SUBREGIAO-Tiete-Cabeceiras.jpg
END:VEVENT
BEGIN:VEVENT
DTSTART;TZID=America/Sao_Paulo:20260313T090000
DTEND;TZID=America/Sao_Paulo:20260313T120000
DTSTAMP:20260422T015413
CREATED:20260306T141704Z
LAST-MODIFIED:20260306T143855Z
UID:19960-1773392400-1773403200@semil.sp.gov.br
SUMMARY:Programa de Educação Ambiental da Bacia Hidrográfica do Alto Tietê - Sub-região Pinheiros-Pirapora
DESCRIPTION:Convidamos para a última rodada de participação social do Programa de Educação Ambiental da Bacia do Alto Tietê – PEABHAT! \nO Programa é financiado com recursos do FEHIDRO e tem a Fundação Agência da Bacia Hidrográfica do Alto Tietê (FABHAT) como tomadora de recursos. \nEsta é uma iniciativa do Comitê da Bacia Hidrográfica do Alto Tietê (CBH-AT)\, com acompanhamento da Câmara Técnica de Educação Ambiental\, em elaboração pela EnvEx Engenharia e Consultoria. \nSerão 5 Audiências Regionais para receber contribuições na versão preliminar do PEABHAT. \nA audiência referente a sub-região Pinheiros-Pirapora ocorrerá em 13/03/2026 das 09h às 12h\, presencialmente na sala de reuniões do CONSEMA\, contamos com a sua participação e apoio na divulgação! \n  \nPara fazer sua inscrição e contribuir para a consulta pública\, acesse: https://linktr.ee/peabhat.2024 \n📅 Consulta pública aberta até 18/03/2026 \n📩 Dúvidas: peabhat@envexengenharia.com.br
URL:https://semil.sp.gov.br/educacaoambiental/evento/programa-de-educacao-ambiental-da-bacia-hidrografica-do-alto-tiete/
ATTACH;FMTTYPE=image/jpeg:https://smastr16.blob.core.windows.net/portaleducacaoambiental/sites/11/2026/03/SUBREGIAO-Pinheiros-Pirapora.jpg
END:VEVENT
BEGIN:VEVENT
DTSTART;TZID=America/Sao_Paulo:20260321T090000
DTEND;TZID=America/Sao_Paulo:20260321T160000
DTSTAMP:20260422T015413
CREATED:20260320T182145Z
LAST-MODIFIED:20260320T182412Z
UID:20086-1774083600-1774108800@semil.sp.gov.br
SUMMARY:Água em Cartaz - Cinema e conversa sobre a importância da Água
DESCRIPTION:🎬💧 Cinema\, reflexão e conexão com a água \nQue tal começar o dia com uma experiência diferente na Semana da Água? \nO evento Água em Cartaz convida o público para um dia especial com exibição de filmes que abordam a relação entre cidade\, natureza e recursos hídricos — seguida de um bate-papo com especialistas e convidados. \nUm momento para refletir\, trocar ideias e repensar nosso papel na preservação da água 🌱 \n📅 21/03⏰ 9h às 16h📍 Museu do Parque Ecológico do Tietê \n💬 Evento gratuito\, com participação de convidados especiais após as exibições
URL:https://semil.sp.gov.br/educacaoambiental/evento/agua-em-cartaz-cinema-e-conversa-sobre-a-importancia-da-agua/
ATTACH;FMTTYPE=image/jpeg:https://smastr16.blob.core.windows.net/portaleducacaoambiental/sites/11/2026/03/banner-3-x-1-1_v1.jpg
END:VEVENT
BEGIN:VEVENT
DTSTART;TZID=America/Sao_Paulo:20260321T180000
DTEND;TZID=America/Sao_Paulo:20260321T190000
DTSTAMP:20260422T015413
CREATED:20260320T130741Z
LAST-MODIFIED:20260320T132117Z
UID:20078-1774116000-1774119600@semil.sp.gov.br
SUMMARY:Mostra de Vídeos Ambientais com Temática Água
DESCRIPTION:No dia 21 de março\, celebrando ” a semana do dia mundial da água”\, será exibida virtualmente a “Mostra de Vídeos Ambientais com Temática Água”. \nExibição no canal de YouTube da COMOVER das 18h às 19h\nhttps://www.youtube.com/@comoverarteculturameioambiente \nMostra integrante da Programação Virtual da “Cine Biblioteca Centros de Origem” de 2026. \n\n\nRealização\nCine Biblioteca Centros de Origem\n\nPontão de COMOVER Arte Cultura e Meio Ambiente \nProgramação viabilizada com apoio do Programa de Ação Cultural – ProAC\, da Secretaria da Cultura\, Economia e Indústria Criativas do Governo do Estado de São Paulo\,e da Política Nacional Aldir Blanc de Fomento à Cultura (PNAB) do Ministério da Cultura e Governo Federal. \nEvento Gratuito 
URL:https://semil.sp.gov.br/educacaoambiental/evento/mostra-de-videos-ambientais-com-tematica-agua/
ATTACH;FMTTYPE=image/jpeg:https://smastr16.blob.core.windows.net/portaleducacaoambiental/sites/11/2026/03/02-Mostra-de-videos-ambientais.jpg
END:VEVENT
BEGIN:VEVENT
DTSTART;TZID=America/Sao_Paulo:20260322T180000
DTEND;TZID=America/Sao_Paulo:20260322T183000
DTSTAMP:20260422T015413
CREATED:20260320T130507Z
LAST-MODIFIED:20260320T131554Z
UID:20075-1774202400-1774204200@semil.sp.gov.br
SUMMARY:Contação de Histórias "Tinha um rio em minha casa"
DESCRIPTION:Tinha um Rio na Minha Casa conta a história de uma menina que sente muito as coisas\, mas acaba guardando todos os sentimentos dentro de si. Quando sonha\, viaja a lugares onde pode correr\, nadar nos rios e brincar à vontade\, mas acorda sempre na cidade de São Paulo. \n\n  \n\nRealizadores\nCine Biblioteca Centros de Origem\nCOMOVER Arte Cultura e Meio Ambiente\nCia Aguapé.\n\n\n  \n\nLink de Exibição\nhttps://www.youtube.com/@comoverarteculturameioambiente\n\n\n  \n\nData 22 de março de 2026\, das 18h às 18h30.\n\n  \n\nO evento faz parte da programação da Cine Biblioteca Centros de Origem\, viabilizado por projeto selecionado por meio do Fomento Estadual de São Paulo\, Fomento CultSP da Secretaria de Cultura e Indústrias Criativas do Governo do Estado de São Paulo\, Edital Fomento CultSP PNAB Nº 29/2024. 
URL:https://semil.sp.gov.br/educacaoambiental/evento/contacao-de-historias-tinha-um-rio-em-minha-casa/
ATTACH;FMTTYPE=image/png:https://smastr16.blob.core.windows.net/portaleducacaoambiental/sites/11/2026/03/01-Tinha-um-rio-na-minha-casa.png
END:VEVENT
BEGIN:VEVENT
DTSTART;TZID=America/Sao_Paulo:20260323T080000
DTEND;TZID=America/Sao_Paulo:20260325T123000
DTSTAMP:20260422T015413
CREATED:20260318T180407Z
LAST-MODIFIED:20260320T125949Z
UID:20048-1774252800-1774441800@semil.sp.gov.br
SUMMARY:AESabesp apoia: Seminário Internacional da Água reunirá especialistas\, em São Paulo\, nos dias 23 e 25 de março
DESCRIPTION:Evento promovido pela Secretaria de Meio Ambiente\, Infraestrutura e Logística do Estado de SP\, na Semana do Dia Mundial da Água\,\ndiscutirá segurança hídrica\, saneamento\, saúde pública\, sustentabilidade da água e educação ambiental. \n  \nNa Semana do Dia Mundial da Água\, a Secretaria de Meio Ambiente\, Infraestrutura e Logística do Estado de São Paulo (Semil) realizará\, nos dias 23 e 25 de março de 2026\, o 1º Seminário Internacional da Água no ESP – Edição 2026. O evento\, que conta com apoio da Associação dos Engenheiros da Sabesp (AESabesp)\, reunirá especialistas nacionais e internacionais para discutir temas estratégicos relacionados à segurança hídrica\, saneamento\, saúde pública\, sustentabilidade da água e educação ambiental. Inscrições abertas aqui. \nO encontro ocorrerá no Anfiteatro Augusto Ruschi\, em São Paulo (auditório da Cetesb)\, com participação presencial e transmissão on-line. Também são apoiadoras a Companhia Ambiental do Estado de São Paulo (Cetesb) e a SP Águas. \nO seminário contará com tradução simultânea português–inglês–português e será transmitido pelos canais da Semil e da AESabesp no YouTube\, ampliando o acesso ao conteúdo para especialistas\, gestores públicos\, pesquisadores\, estudantes e sociedade civil. \nA abertura institucional será conduzida pelo subsecretário da Semil\, Cristiano Kenji Iwai. \nDurante o seminário\, especialistas de universidades\, instituições públicas e organizações internacionais apresentarão experiências\, pesquisas e políticas públicas voltadas à gestão sustentável da água e aos desafios contemporâneos do setor de saneamento e recursos hídricos. \n\nTransmissão online – Dia 23 de março\n\nProgramação – 23 de março de 2026\n\n\n\n8h\n\n\nRecepção e coffee break\nAbertura institucional\nCristiano Kenji Iwai – Semil\n\n\n\n\n9h – 10h40\n\n\nMesa 1 – Saneamento Rural\nModeração: Ester Feche \n\nSafewater\nProf. Pilar Fernandez-Ibanez (participação virtual)\nUlster University – Reino Unido\nSaneamento rural no Estado de São Paulo\nDionisio Santa’Ana Pereira – Sabesp\nRegulação no saneamento\nSérgio Bernardes – Arsesp\nPolíticas públicas para o saneamento rural\nDra. Fernanda Rodrigues Morais (participação virtual)\nMinistério das Cidades\n\n\n\n\n\n\n11h – 12h40\n\n\nMesa 2 – Água e Saúde Pública\nModeração: Cristiano Kenji Iwai \n\nSegurança alimentar\, nutrição e água\nDr. Sumantra Ray (participação virtual) Universidade de Cambridge \nÁgua e saúde pública\nDra. Alexandra Facciolli – Ministério Público do Estado de São Paulo\nÁgua e saúde ambiental\nDra. Maria Tereza Pepe Razzolini – Universidade de São Paulo \nÁgua e emergências\nProf. Wanderley Paganini – Universidade de São Paulo\n\n\n\n\n\n\n\n  \n  \nTransmissão online – Dia 25 de março\n\nProgramação – 25 de março de 2026\n\n\n\n8h\n\n\nRecepção e coffee break\nAbertura\nNatália Resende – Semil\n\n\n\n\n9h – 10h40\n\n\nMesa 3 – Temas Atuais da Sustentabilidade da Água\nModeração: Eduardo Mazolenis \n\nReúso direto em ambiente urbano\nFrancis de los Reyes III (participação virtual) – North Carolina State University – Estados Unidos\nReúso e circularidade da água\nProf. José Carlos Mierzwa – Escola Politécnica – Universidade de São Paulo\nTecnologias e controle de perdas\nChristiane Hatano – Japan International Cooperation Agency – JICA\nTecnologias e controle de perdas no saneamento \nFábio Marques dos Passos – Sabesp \nRegulamentação e estresse hídrico\nAna Paula Brites – SP Águas\n\n\n\n\n\n\n\n\n\n\n11h – 12h40\n\n\nMesa 4 – Educação: Alicerce da Sustentabilidade Ambiental\nModeração: Lara Chacon \n\nApresentação de vídeo\nNikitah Rajput Ray (participação virtual) – Reino Unido / Índia\nEducação ambiental e formação profissional\nSabrina de Oliveira – ProfCiamb / USP\nEducação para transformação social\nAna Montosa – Ensina Brasil\nCCD-Saneaclima\nProf. Dr. Marcelo Nolasco – USP\nEducação ambiental e cooperação institucional\nSecretaria de Educação ou UNICEF (a confirmar)\n\n\n\n\n\n\n12h30\n\n\nEncerramento\n\n\n\n\n\n  \n  \n  \n 
URL:https://semil.sp.gov.br/educacaoambiental/evento/aesabesp-apoia-seminario-internacional-da-agua-reunira-especialistas-em-sao-paulo-nos-dias-23-e-25-de-marco/
ATTACH;FMTTYPE=image/png:https://smastr16.blob.core.windows.net/portaleducacaoambiental/sites/11/2026/03/2026-03-18_15h02_11.png
END:VEVENT
BEGIN:VEVENT
DTSTART;TZID=America/Sao_Paulo:20260323T183000
DTEND;TZID=America/Sao_Paulo:20260323T210000
DTSTAMP:20260422T015414
CREATED:20260306T135934Z
LAST-MODIFIED:20260306T141146Z
UID:19951-1774290600-1774299600@semil.sp.gov.br
SUMMARY:Educação\, Água e Emergência Climática: Caminhos para Reencantar Práticas nos Territórios
DESCRIPTION:Como falar de emergência climática na escola sem gerar medo\, mas sim ação e esperança?\n\n  \nEsse é o convite do nosso próximo encontro on-line\, pensado especialmente para profissionais de educação de todo o Brasil.\n\n  \nSabemos que a crise climática é urgente. Mas também sabemos que a escola pode ser espaço de cuidado\, imaginação e transformação. 💚\n\n  \nA partir da Cartilha Árvores Guardiãs\, do Corredor Caipira\, vamos abrir um diálogo sensível e crítico sobre como abordar o tema com crianças de forma honesta\, envolvente e mobilizadora.\n\n🌿 Uma conversa de educadores para educadores.\n\n  \nCom Marcos Sorrentino\, Maria Luísa Bonazzi Palmieri e Nathalia Nascimento\, e mediação de Karine Silva Faleiros\, vamos compartilhar experiências e práticas que fortalecem quem está na linha de frente da formação das novas gerações\, reconhecendo a infância como potência e a escola como território de ação climática.\n\n  \n\n\n📅 23/03\n⏰ 18h30 às 21h00\n💻 Ao vivo no YouTube do Corredor Caipira: https://youtube.com/live/ajKYyw5nghU\n\n\n \n 
URL:https://semil.sp.gov.br/educacaoambiental/evento/educacao-agua-e-emergencia-climatica-caminhos-para-reencantar-praticas-nos-territorios/
CATEGORIES:Evento on line
ATTACH;FMTTYPE=image/jpeg:https://smastr16.blob.core.windows.net/portaleducacaoambiental/sites/11/2026/03/WhatsApp-Image-2026-03-04-at-12.08.16.jpeg
END:VEVENT
END:VCALENDAR